BEGIN:VCALENDAR
VERSION:2.0
PRODID:-//Circus Starr - ECPv5.9.0//NONSGML v1.0//EN
CALSCALE:GREGORIAN
METHOD:PUBLISH
X-WR-CALNAME:Circus Starr
X-ORIGINAL-URL:https://www.circus-starr.org.uk
X-WR-CALDESC:Events for Circus Starr
BEGIN:VTIMEZONE
TZID:Europe/London
BEGIN:DAYLIGHT
TZOFFSETFROM:+0000
TZOFFSETTO:+0100
TZNAME:BST
DTSTART:20260329T010000
END:DAYLIGHT
BEGIN:STANDARD
TZOFFSETFROM:+0100
TZOFFSETTO:+0000
TZNAME:GMT
DTSTART:20261025T010000
END:STANDARD
END:VTIMEZONE
BEGIN:VEVENT
DTSTART;VALUE=DATE:20260623
DTEND;VALUE=DATE:20260624
DTSTAMP:20260419T143222
CREATED:20230209T155210Z
LAST-MODIFIED:20260330T115830Z
UID:2609-1782172800-1782259199@www.circus-starr.org.uk
SUMMARY:Hull
DESCRIPTION:We’re bringing our brand new show to to The Freedom Centre\, Hull on June 23rd!\n \nNeed a wheelchair user space? \nIf so\, please reserve your space in advance by calling 01260 288690. Our event is held indoors which means that our wheelchair spaces are often limited. They will be allocated on a first come first serve basis and you will be sent a code to show when you arrive.\n\nGetting To The Show\nParking for this show is available at the venue itself\, by following the venue postcode\, HU9 3QB. If travelling by bus\, there is a stop on Aldborough Grove.\nFor the latest show announcements follow us on\nFacebook\, Instagram and Twitter.\nEnjoy the show!
URL:https://www.circus-starr.org.uk/event/hull/
LOCATION:Hull\, The Freedom Centre\, 97 Preston Road\, Hull\, HU9 3QB\, United Kingdom
CATEGORIES:Spring
GEO:53.759112981108;-0.28413716136409
X-APPLE-STRUCTURED-LOCATION;VALUE=URI;X-ADDRESS=Hull The Freedom Centre 97 Preston Road Hull HU9 3QB United Kingdom;X-APPLE-RADIUS=500;X-TITLE=The Freedom Centre:geo:-0.28413716136409,53.759112981108
END:VEVENT
END:VCALENDAR